BEGIN:VCALENDAR
VERSION:2.0
PRODID:-//Fahrschule Haider - ECPv6.15.18//NONSGML v1.0//EN
CALSCALE:GREGORIAN
METHOD:PUBLISH
X-ORIGINAL-URL:https://fahrschule-haider.at
X-WR-CALDESC:Veranstaltungen für Fahrschule Haider
REFRESH-INTERVAL;VALUE=DURATION:PT1H
X-Robots-Tag:noindex
X-PUBLISHED-TTL:PT1H
BEGIN:VTIMEZONE
TZID:Europe/Paris
BEGIN:DAYLIGHT
TZOFFSETFROM:+0100
TZOFFSETTO:+0200
TZNAME:CEST
DTSTART:20250330T010000
END:DAYLIGHT
BEGIN:STANDARD
TZOFFSETFROM:+0200
TZOFFSETTO:+0100
TZNAME:CET
DTSTART:20251026T010000
END:STANDARD
BEGIN:DAYLIGHT
TZOFFSETFROM:+0100
TZOFFSETTO:+0200
TZNAME:CEST
DTSTART:20260329T010000
END:DAYLIGHT
BEGIN:STANDARD
TZOFFSETFROM:+0200
TZOFFSETTO:+0100
TZNAME:CET
DTSTART:20261025T010000
END:STANDARD
BEGIN:DAYLIGHT
TZOFFSETFROM:+0100
TZOFFSETTO:+0200
TZNAME:CEST
DTSTART:20270328T010000
END:DAYLIGHT
BEGIN:STANDARD
TZOFFSETFROM:+0200
TZOFFSETTO:+0100
TZNAME:CET
DTSTART:20271031T010000
END:STANDARD
END:VTIMEZONE
BEGIN:VEVENT
DTSTART;TZID=Europe/Paris:20260504T170000
DTEND;TZID=Europe/Paris:20260504T200000
DTSTAMP:20260419T153938
CREATED:20250129T125501Z
LAST-MODIFIED:20251119T094405Z
UID:10000418-1777914000-1777924800@fahrschule-haider.at
SUMMARY:PKW-Theorie-Intensivkurs (B-Kurs)
DESCRIPTION:PKW-Theorie-Intensivkurs (B-Kurs)\n10 Tage Intensivkurs  |  Montag bis Freitag von 17:00 Uhr – 20:00 Uhr \nStart am Montag um 17.00 Uhr in der Fahrschule. \nWenn du noch nicht angemeldet bist\, komm persönlich zu den Öffnungszeiten vorbei. Ihr könnt euch auch gerne per Mail anmelden. \nBitte bring ein Passfoto + Reisepass (Führerschein)  mit! \n  \n  \nWeitere Informationen über die Klasse B findest du hier >>> \ntags: Theorie\, Intensivkurs\, Klasse B\, B-Kurs\, Theorie-Intensivkurs \n 
URL:https://fahrschule-haider.at/termin/pkw-theorie-intensivkurs-b-kurs-4/
LOCATION:Büro St. Marein\, St. Marein 133\, St. Stefan\, Kärnten\, 9431\, Österreich
CATEGORIES:B-Kurs,PKW,PKW-Theorie-Intensivkurs,Theorie
ATTACH;FMTTYPE=image/jpeg:https://fahrschule-haider.at/wp-content/uploads/2020/09/Theoriekurs.jpg
END:VEVENT
BEGIN:VEVENT
DTSTART;TZID=Europe/Paris:20260507T080000
DTEND;TZID=Europe/Paris:20260507T163000
DTSTAMP:20260419T153938
CREATED:20260204T143833Z
LAST-MODIFIED:20260209T071329Z
UID:10000547-1778140800-1778171400@fahrschule-haider.at
SUMMARY:Fahrsicherheitstraining Motorrad
DESCRIPTION:Fahrsicherheitstraining MOTORRAD \nDie Kosten betragen mit eigenem Motorrad EURO 246\,-\nMotorrad Leihgebühr beträgt EURO 40\,-\nDie Kosten mit Leihmotorrad  betragen gesamt EURO 286\,- \nFalls Du von uns ein Motorrad ausleihen möchtest (7 sind verfügbar)\, wähle dies bitte bei der Anmeldung aus. \nWir bitten um rechtzeitige Absage\, da ansonsten 80% in Rechnung gestellt werden müssen! \n  \nFahrsicherheitstraining\, Fahrsicherheit\, Motorrad\, Mehrphasenausbildung
URL:https://fahrschule-haider.at/termin/fahrsicherheitstraining-motorrad-4/
LOCATION:Driving Park Lovnttol\, St. Marein 133\, St. Stefan\, Kärnten\, 9431\, Österreich
CATEGORIES:Fahrsicherheitstraining Motorrad,Mehrphasenausbildung
ATTACH;FMTTYPE=image/jpeg:https://fahrschule-haider.at/wp-content/uploads/2021/01/fahrsicherheit-training-haider.jpg
END:VEVENT
BEGIN:VEVENT
DTSTART;TZID=Europe/Paris:20260508T080000
DTEND;TZID=Europe/Paris:20260508T163000
DTSTAMP:20260419T153938
CREATED:20260204T143934Z
LAST-MODIFIED:20260209T071336Z
UID:10000548-1778227200-1778257800@fahrschule-haider.at
SUMMARY:Fahrsicherheitstraining Motorrad
DESCRIPTION:Fahrsicherheitstraining MOTORRAD \nDie Kosten betragen mit eigenem Motorrad EURO 246\,-\nMotorrad Leihgebühr beträgt EURO 40\,-\nDie Kosten mit Leihmotorrad  betragen gesamt EURO 286\,- \nFalls Du von uns ein Motorrad ausleihen möchtest (7 sind verfügbar)\, wähle dies bitte bei der Anmeldung aus. \nWir bitten um rechtzeitige Absage\, da ansonsten 80% in Rechnung gestellt werden müssen! \n  \nFahrsicherheitstraining\, Fahrsicherheit\, Motorrad\, Mehrphasenausbildung
URL:https://fahrschule-haider.at/termin/fahrsicherheitstraining-motorrad-5/
LOCATION:Driving Park Lovnttol\, St. Marein 133\, St. Stefan\, Kärnten\, 9431\, Österreich
CATEGORIES:Fahrsicherheitstraining Motorrad,Mehrphasenausbildung
ATTACH;FMTTYPE=image/jpeg:https://fahrschule-haider.at/wp-content/uploads/2021/01/fahrsicherheit-training-haider.jpg
END:VEVENT
BEGIN:VEVENT
DTSTART;TZID=Europe/Paris:20260513T080000
DTEND;TZID=Europe/Paris:20260513T080000
DTSTAMP:20260419T153938
CREATED:20260204T135732Z
LAST-MODIFIED:20260209T071115Z
UID:10000539-1778659200-1778659200@fahrschule-haider.at
SUMMARY:Fahrsicherheitstraining PKW
DESCRIPTION:Fahrsicherheitstraining (Spikesverbot) \nWir bitten um rechtzeitige Absage\, da ansonsten 80% in Rechnung gestellt werden müssen! \n  \nDer offene Betrag ist sofort nach Anmeldung zu überweisen.
URL:https://fahrschule-haider.at/termin/fahrsicherheitstraining-pkw-6/
LOCATION:Driving Park Lovnttol\, St. Marein 133\, St. Stefan\, Kärnten\, 9431\, Österreich
CATEGORIES:Fahrsicherheitstraining PKW,Mehrphasenausbildung
ATTACH;FMTTYPE=image/jpeg:https://fahrschule-haider.at/wp-content/uploads/2025/09/20250903-Fahrschule-Haider-Rene-Knabl-090-scaled.jpg
END:VEVENT
BEGIN:VEVENT
DTSTART;TZID=Europe/Paris:20260521T080000
DTEND;TZID=Europe/Paris:20260521T163000
DTSTAMP:20260419T153938
CREATED:20260414T075641Z
LAST-MODIFIED:20260414T075641Z
UID:10000565-1779350400-1779381000@fahrschule-haider.at
SUMMARY:Fahrsicherheitstraining Motorrad
DESCRIPTION:Fahrsicherheitstraining MOTORRAD \nDie Kosten betragen mit eigenem Motorrad EURO 246\,-\nMotorrad Leihgebühr beträgt EURO 40\,-\nDie Kosten mit Leihmotorrad  betragen gesamt EURO 286\,- \nFalls Du von uns ein Motorrad ausleihen möchtest (7 sind verfügbar)\, wähle dies bitte bei der Anmeldung aus. \nWir bitten um rechtzeitige Absage\, da ansonsten 80% in Rechnung gestellt werden müssen! \n  \nFahrsicherheitstraining\, Fahrsicherheit\, Motorrad\, Mehrphasenausbildung
URL:https://fahrschule-haider.at/termin/fahrsicherheitstraining-motorrad-6/
LOCATION:Driving Park Lovnttol\, St. Marein 133\, St. Stefan\, Kärnten\, 9431\, Österreich
CATEGORIES:Fahrsicherheitstraining Motorrad,Mehrphasenausbildung
ATTACH;FMTTYPE=image/jpeg:https://fahrschule-haider.at/wp-content/uploads/2021/01/fahrsicherheit-training-haider.jpg
END:VEVENT
BEGIN:VEVENT
DTSTART;TZID=Europe/Paris:20260522T080000
DTEND;TZID=Europe/Paris:20260522T080000
DTSTAMP:20260419T153938
CREATED:20260204T135901Z
LAST-MODIFIED:20260209T071130Z
UID:10000538-1779436800-1779436800@fahrschule-haider.at
SUMMARY:Fahrsicherheitstraining PKW
DESCRIPTION:Fahrsicherheitstraining (Spikesverbot) \nWir bitten um rechtzeitige Absage\, da ansonsten 80% in Rechnung gestellt werden müssen! \n  \nDer offene Betrag ist sofort nach Anmeldung zu überweisen.
URL:https://fahrschule-haider.at/termin/fahrsicherheitstraining-pkw-7/
LOCATION:Driving Park Lovnttol\, St. Marein 133\, St. Stefan\, Kärnten\, 9431\, Österreich
CATEGORIES:Fahrsicherheitstraining PKW,Mehrphasenausbildung
ATTACH;FMTTYPE=image/jpeg:https://fahrschule-haider.at/wp-content/uploads/2025/09/20250903-Fahrschule-Haider-Rene-Knabl-090-scaled.jpg
END:VEVENT
BEGIN:VEVENT
DTSTART;TZID=Europe/Paris:20260526T170000
DTEND;TZID=Europe/Paris:20260526T210000
DTSTAMP:20260419T153938
CREATED:20250129T135856Z
LAST-MODIFIED:20251119T094435Z
UID:10000438-1779814800-1779829200@fahrschule-haider.at
SUMMARY:Traktor F-Kurs
DESCRIPTION:Traktor F-Kurs\nEin-Tages-Kurs von 17:00 – 21:00 Uhr \nBitte bring ein Passfoto + Reisepass (Führerschein)  mit! \n  \nWeitere Informationen zum Kurs findest du hier >>> \n \nTraktor\, Theorie\, F\, Traktor(F)\, Klasse F
URL:https://fahrschule-haider.at/termin/traktor-f-kurs-7/
LOCATION:Driving Park Lovnttol\, St. Marein 133\, St. Stefan\, Kärnten\, 9431\, Österreich
CATEGORIES:F,Klasse F,Theorie,Traktor
ATTACH;FMTTYPE=image/jpeg:https://fahrschule-haider.at/wp-content/uploads/2020/05/traktor-1000.jpg
END:VEVENT
BEGIN:VEVENT
DTSTART;TZID=Europe/Paris:20260527T170000
DTEND;TZID=Europe/Paris:20260527T200000
DTSTAMP:20260419T153938
CREATED:20250129T134744Z
LAST-MODIFIED:20251119T094503Z
UID:10000429-1779901200-1779912000@fahrschule-haider.at
SUMMARY:PKW-Anhänger (BE)
DESCRIPTION:PKW-BE-Anhänger-Kurs\n\nEin-Tages-Kurs von 17:00 Uhr – 20:00 Uhr \nBitte bring ein Passfoto + Reisepass (Führerschein)  mit! \nFolgt gerne unserem Telegramkanal\, dort werden wir die aktuellsten Infos für euch bereitstellen >>> telegram Fahrschule Haider \nWeitere Informationen findest du hier >>> \n \ntags: Anhänger\, BE-Kurs\, Klasse BE\, PKW-Anhänger
URL:https://fahrschule-haider.at/termin/pkw-anhaenger-be-8/
LOCATION:Driving Park Lovnttol\, St. Marein 133\, St. Stefan\, Kärnten\, 9431\, Österreich
CATEGORIES:Anhänger,BE,Klasse BE,Praxis
ATTACH;FMTTYPE=image/jpeg:https://fahrschule-haider.at/wp-content/uploads/2021/02/anhaenger.jpg
END:VEVENT
BEGIN:VEVENT
DTSTART;TZID=Europe/Paris:20260528T080000
DTEND;TZID=Europe/Paris:20260528T080000
DTSTAMP:20260419T153938
CREATED:20260414T075132Z
LAST-MODIFIED:20260414T075132Z
UID:10000555-1779955200-1779955200@fahrschule-haider.at
SUMMARY:Fahrsicherheitstraining PKW
DESCRIPTION:Fahrsicherheitstraining (Spikesverbot) \nWir bitten um rechtzeitige Absage\, da ansonsten 80% in Rechnung gestellt werden müssen! \n  \nDer offene Betrag ist sofort nach Anmeldung zu überweisen.
URL:https://fahrschule-haider.at/termin/fahrsicherheitstraining-pkw-15/
LOCATION:Driving Park Lovnttol\, St. Marein 133\, St. Stefan\, Kärnten\, 9431\, Österreich
CATEGORIES:Fahrsicherheitstraining PKW,Mehrphasenausbildung
ATTACH;FMTTYPE=image/jpeg:https://fahrschule-haider.at/wp-content/uploads/2025/09/20250903-Fahrschule-Haider-Rene-Knabl-090-scaled.jpg
END:VEVENT
BEGIN:VEVENT
DTSTART;TZID=Europe/Paris:20260528T170000
DTEND;TZID=Europe/Paris:20260528T200000
DTSTAMP:20260419T153938
CREATED:20250129T140436Z
LAST-MODIFIED:20260310T170734Z
UID:10000444-1779987600-1779998400@fahrschule-haider.at
SUMMARY:Motorrad A _ 2 Tageskurs
DESCRIPTION:Motorrad A_ 2 Tageskurs\nZwei-Tages-Kurs von 17:00 – 20:00 Uhr \nBitte bring ein Passfoto + Reisepass (Führerschein)  mit! \n  \nWeitere Informationen zum Kurs findest du hier >>> \nFolgt gerne unserem Telegramkanal\, dort werden wir die aktuellsten Infos für euch bereitstellen >>> telegram Fahrschule Haider \n  \nMotorrad\, A Kurs
URL:https://fahrschule-haider.at/termin/motorrad-a-_-2-tageskurs-6/
LOCATION:Driving Park Lovnttol\, St. Marein 133\, St. Stefan\, Kärnten\, 9431\, Österreich
CATEGORIES:A Kurs,Motorrad,Theorie
ATTACH;FMTTYPE=image/jpeg:https://fahrschule-haider.at/wp-content/uploads/2020/03/motorrad.jpg
END:VEVENT
BEGIN:VEVENT
DTSTART;TZID=Europe/Paris:20260529T080000
DTEND;TZID=Europe/Paris:20260529T163000
DTSTAMP:20260419T153938
CREATED:20260204T144455Z
LAST-MODIFIED:20260209T071359Z
UID:10000552-1780041600-1780072200@fahrschule-haider.at
SUMMARY:Fahrsicherheitstraining Motorrad
DESCRIPTION:Fahrsicherheitstraining MOTORRAD \nDie Kosten betragen mit eigenem Motorrad EURO 246\,-\nMotorrad Leihgebühr beträgt EURO 40\,-\nDie Kosten mit Leihmotorrad  betragen gesamt EURO 286\,- \nFalls Du von uns ein Motorrad ausleihen möchtest (7 sind verfügbar)\, wähle dies bitte bei der Anmeldung aus. \nWir bitten um rechtzeitige Absage\, da ansonsten 80% in Rechnung gestellt werden müssen! \n  \nFahrsicherheitstraining\, Fahrsicherheit\, Motorrad\, Mehrphasenausbildung
URL:https://fahrschule-haider.at/termin/fahrsicherheitstraining-motorrad-7/
LOCATION:Driving Park Lovnttol\, St. Marein 133\, St. Stefan\, Kärnten\, 9431\, Österreich
CATEGORIES:Fahrsicherheitstraining Motorrad,Mehrphasenausbildung
ATTACH;FMTTYPE=image/jpeg:https://fahrschule-haider.at/wp-content/uploads/2021/01/fahrsicherheit-training-haider.jpg
END:VEVENT
END:VCALENDAR