BEGIN:VCALENDAR
VERSION:2.0
PRODID:-//Fahrschule Haider - ECPv6.15.18//NONSGML v1.0//EN
CALSCALE:GREGORIAN
METHOD:PUBLISH
X-ORIGINAL-URL:https://fahrschule-haider.at
X-WR-CALDESC:Veranstaltungen für Fahrschule Haider
REFRESH-INTERVAL;VALUE=DURATION:PT1H
X-Robots-Tag:noindex
X-PUBLISHED-TTL:PT1H
BEGIN:VTIMEZONE
TZID:Europe/Paris
BEGIN:DAYLIGHT
TZOFFSETFROM:+0100
TZOFFSETTO:+0200
TZNAME:CEST
DTSTART:20250330T010000
END:DAYLIGHT
BEGIN:STANDARD
TZOFFSETFROM:+0200
TZOFFSETTO:+0100
TZNAME:CET
DTSTART:20251026T010000
END:STANDARD
BEGIN:DAYLIGHT
TZOFFSETFROM:+0100
TZOFFSETTO:+0200
TZNAME:CEST
DTSTART:20260329T010000
END:DAYLIGHT
BEGIN:STANDARD
TZOFFSETFROM:+0200
TZOFFSETTO:+0100
TZNAME:CET
DTSTART:20261025T010000
END:STANDARD
BEGIN:DAYLIGHT
TZOFFSETFROM:+0100
TZOFFSETTO:+0200
TZNAME:CEST
DTSTART:20270328T010000
END:DAYLIGHT
BEGIN:STANDARD
TZOFFSETFROM:+0200
TZOFFSETTO:+0100
TZNAME:CET
DTSTART:20271031T010000
END:STANDARD
END:VTIMEZONE
BEGIN:VEVENT
DTSTART;TZID=Europe/Paris:20260603T080000
DTEND;TZID=Europe/Paris:20260603T080000
DTSTAMP:20260421T101627
CREATED:20260204T140028Z
LAST-MODIFIED:20260209T071143Z
UID:10000537-1780473600-1780473600@fahrschule-haider.at
SUMMARY:Fahrsicherheitstraining PKW
DESCRIPTION:Fahrsicherheitstraining (Spikesverbot) \nWir bitten um rechtzeitige Absage\, da ansonsten 80% in Rechnung gestellt werden müssen! \n  \nDer offene Betrag ist sofort nach Anmeldung zu überweisen.
URL:https://fahrschule-haider.at/termin/fahrsicherheitstraining-pkw-11/
LOCATION:Driving Park Lovnttol\, St. Marein 133\, St. Stefan\, Kärnten\, 9431\, Österreich
CATEGORIES:Fahrsicherheitstraining PKW,Mehrphasenausbildung
ATTACH;FMTTYPE=image/jpeg:https://fahrschule-haider.at/wp-content/uploads/2025/09/20250903-Fahrschule-Haider-Rene-Knabl-090-scaled.jpg
END:VEVENT
BEGIN:VEVENT
DTSTART;VALUE=DATE:20260606
DTEND;VALUE=DATE:20260607
DTSTAMP:20260421T101627
CREATED:20260228T075451Z
LAST-MODIFIED:20260310T170244Z
UID:10000553-1780704000-1780790399@fahrschule-haider.at
SUMMARY:50 cm³ Mopedtreffen 2026
DESCRIPTION:Die Fahrschule Haider veranstaltet ein Moped Treffen am 6.6.2026 im Driving Park Lovnttol in St. Marein.\nTeilnehmen können alle Mopeds/Mofas bis max. 50ccm Hubraum (rotes Kennzeichen) in den jeweiligen Klassen. Die Teilnehmeranzahl ist pro Gruppe limitiert. Der/Die Fahrer/in muss eine gültige Lenkerberechtigung für Mopeds haben.\nEin EU-konformer Sturzhelm ist Pflicht. Die gesetzliche Promillegrenze versteht sich von selbst.\nDIE TEILNAHME ERFOLGT AUF EIGENE GEFAHR. \nDATENSCHUTZ – Es wird gefilmt und fotografiert. Die Teilnehmer stimmen einer Veröffentlichung von Bildern in diversen Medien bezugnehmend zur Veranstaltung zu. \nProgramm: \n8:00-10:00 Uhr Ausgabe des Welcome Packages und der Bewerb Nummer \nParade für alle Teilnehmer optional \nBewerbe beginnen ab 10:00 Uhr und enden um ca. 16:00 Uhr \nClassic Show: Aufstellung spätestens 15:00 Uhr. Prämierung ca. 17:00 Uhr – powered by Zweirad Scharf \n \n  \nAnmeldung in der jeweiligen Gruppe: für jede Gruppe sind limitierte Startplätze vorgesehen: first call first in \n1. Classic Mopeds – Baujahr 1969 \n2. Classic Mopeds Baujahr 1970-1980 \n3. Classic Mopeds Baujahr 1981-1990 \n4. Mopeds ab Baujahr 1991 \nBewerbe: \nHindernisparcours – Teilnehmer müssen in einer bestimmten Zeit einen Handling-Parcour absolvieren – es werden Fehler und Zeit gemessen – powered by PT Motors  \nOffroad Trial Parcours   – Offroadtaugliche Mopeds und Fahrer können hier ihre Geschicklichkeit beweisen. Offroadpark – Zeit und Fehler werden gemessen – powered by Zweirad Dohr \nDrag Race – 150 Meter Beschleunigungstest im Duell mit seinem Freund/Kollegen! Dieser Bewerb kann zweimal gefahren werden – powered by Auner  \nJeder Bewerb wird einzeln gewertet und die ersten 3 werden gekürt. Zusätzlich gibt es einen Tagesgesamt Sieger\, der in allen drei Disziplinen angetreten ist und die beste Punktezahl erreicht!! \n  \nNenngeld \nDas Nenngeld pro Fahrer beträgt €15\,-. \n Darin inkludiert sind die Teilnahme an allen Bewerben und Teilnahme an der Classic Show. \nWeiters erhält jeder Teilnehmer ein „Moped Treffen Driving Park Lovnttol 26“ T-Shirt! \n  \nAblauf der Anmeldung \n1. Online-Anmeldung (hier gehts zum Anmeldeformular\, Anmeldung per Mail ist nicht möglich!) Nennungsschluss ist der 10.5.2026 \n. Nenngeld €15\,– auf das Konto einzahlen \n3. Sobald das Nenngeld auf dem Konto aufscheint\, werdet ihr von uns in die Teilnehmerliste aufgenommen und benachrichtigt. \n4. Teilnehmerliste wird online gestellt und laufend aktualisiert. \n  \nUm sich für die Bewerbe anmelden zu können\, müssen die AGBs und der Haftungsausschluss akzeptiert werden (im Anmeldeformular). Der Haftungsausschluss muss außerdem bei der Anmeldung vor Ort unterschrieben und abgegeben werden um die Bewerb Nummer zu bekommen. \n  \nSponsoren
URL:https://fahrschule-haider.at/termin/mopedtreffen-2026/
LOCATION:Büro St. Marein\, St. Marein 133\, St. Stefan\, Kärnten\, 9431\, Österreich
ATTACH;FMTTYPE=image/png:https://fahrschule-haider.at/wp-content/uploads/2026/02/mopedtreffen_transparent.png
END:VEVENT
BEGIN:VEVENT
DTSTART;TZID=Europe/Paris:20260608T170000
DTEND;TZID=Europe/Paris:20260608T200000
DTSTAMP:20260421T101627
CREATED:20250129T125539Z
LAST-MODIFIED:20251119T094559Z
UID:10000419-1780938000-1780948800@fahrschule-haider.at
SUMMARY:PKW-Theorie-Intensivkurs (B-Kurs)
DESCRIPTION:PKW-Theorie-Intensivkurs (B-Kurs)\n10 Tage Intensivkurs  |  Montag bis Freitag von 17:00 Uhr – 20:00 Uhr \nStart am Montag um 17.00 Uhr in der Fahrschule. \nWenn du noch nicht angemeldet bist\, komm persönlich zu den Öffnungszeiten vorbei. Ihr könnt euch auch gerne per Mail anmelden. \nBitte bring ein Passfoto + Reisepass (Führerschein)  mit! \n  \n  \nWeitere Informationen über die Klasse B findest du hier >>> \ntags: Theorie\, Intensivkurs\, Klasse B\, B-Kurs\, Theorie-Intensivkurs \n 
URL:https://fahrschule-haider.at/termin/pkw-theorie-intensivkurs-b-kurs-5/
LOCATION:Büro St. Marein\, St. Marein 133\, St. Stefan\, Kärnten\, 9431\, Österreich
CATEGORIES:B-Kurs,PKW,PKW-Theorie-Intensivkurs,Theorie
ATTACH;FMTTYPE=image/jpeg:https://fahrschule-haider.at/wp-content/uploads/2020/09/Theoriekurs.jpg
END:VEVENT
BEGIN:VEVENT
DTSTART;TZID=Europe/Paris:20260611T080000
DTEND;TZID=Europe/Paris:20260611T163000
DTSTAMP:20260421T101627
CREATED:20260414T075823Z
LAST-MODIFIED:20260414T075823Z
UID:10000566-1781164800-1781195400@fahrschule-haider.at
SUMMARY:Fahrsicherheitstraining Motorrad
DESCRIPTION:Fahrsicherheitstraining MOTORRAD \nDie Kosten betragen mit eigenem Motorrad EURO 246\,-\nMotorrad Leihgebühr beträgt EURO 40\,-\nDie Kosten mit Leihmotorrad  betragen gesamt EURO 286\,- \nFalls Du von uns ein Motorrad ausleihen möchtest (7 sind verfügbar)\, wähle dies bitte bei der Anmeldung aus. \nWir bitten um rechtzeitige Absage\, da ansonsten 80% in Rechnung gestellt werden müssen! \n  \nFahrsicherheitstraining\, Fahrsicherheit\, Motorrad\, Mehrphasenausbildung
URL:https://fahrschule-haider.at/termin/fahrsicherheitstraining-motorrad-9/
LOCATION:Driving Park Lovnttol\, St. Marein 133\, St. Stefan\, Kärnten\, 9431\, Österreich
CATEGORIES:Fahrsicherheitstraining Motorrad,Mehrphasenausbildung
ATTACH;FMTTYPE=image/jpeg:https://fahrschule-haider.at/wp-content/uploads/2021/01/fahrsicherheit-training-haider.jpg
END:VEVENT
BEGIN:VEVENT
DTSTART;TZID=Europe/Paris:20260612T080000
DTEND;TZID=Europe/Paris:20260612T163000
DTSTAMP:20260421T101627
CREATED:20260204T144851Z
LAST-MODIFIED:20260209T071410Z
UID:10000551-1781251200-1781281800@fahrschule-haider.at
SUMMARY:Fahrsicherheitstraining Motorrad
DESCRIPTION:Fahrsicherheitstraining MOTORRAD \nDie Kosten betragen mit eigenem Motorrad EURO 246\,-\nMotorrad Leihgebühr beträgt EURO 40\,-\nDie Kosten mit Leihmotorrad  betragen gesamt EURO 286\,- \nFalls Du von uns ein Motorrad ausleihen möchtest (7 sind verfügbar)\, wähle dies bitte bei der Anmeldung aus. \nWir bitten um rechtzeitige Absage\, da ansonsten 80% in Rechnung gestellt werden müssen! \n  \nFahrsicherheitstraining\, Fahrsicherheit\, Motorrad\, Mehrphasenausbildung
URL:https://fahrschule-haider.at/termin/fahrsicherheitstraining-motorrad-8/
LOCATION:Driving Park Lovnttol\, St. Marein 133\, St. Stefan\, Kärnten\, 9431\, Österreich
CATEGORIES:Fahrsicherheitstraining Motorrad,Mehrphasenausbildung
ATTACH;FMTTYPE=image/jpeg:https://fahrschule-haider.at/wp-content/uploads/2021/01/fahrsicherheit-training-haider.jpg
END:VEVENT
BEGIN:VEVENT
DTSTART;TZID=Europe/Paris:20260619T080000
DTEND;TZID=Europe/Paris:20260619T080000
DTSTAMP:20260421T101627
CREATED:20260204T140326Z
LAST-MODIFIED:20260209T071158Z
UID:10000542-1781856000-1781856000@fahrschule-haider.at
SUMMARY:Fahrsicherheitstraining PKW
DESCRIPTION:Fahrsicherheitstraining (Spikesverbot) \nWir bitten um rechtzeitige Absage\, da ansonsten 80% in Rechnung gestellt werden müssen! \n  \nDer offene Betrag ist sofort nach Anmeldung zu überweisen.
URL:https://fahrschule-haider.at/termin/fahrsicherheitstraining-pkw-13/
LOCATION:Driving Park Lovnttol\, St. Marein 133\, St. Stefan\, Kärnten\, 9431\, Österreich
CATEGORIES:Fahrsicherheitstraining PKW,Mehrphasenausbildung
ATTACH;FMTTYPE=image/jpeg:https://fahrschule-haider.at/wp-content/uploads/2025/09/20250903-Fahrschule-Haider-Rene-Knabl-090-scaled.jpg
END:VEVENT
BEGIN:VEVENT
DTSTART;TZID=Europe/Paris:20260622T170000
DTEND;TZID=Europe/Paris:20260622T210000
DTSTAMP:20260421T101627
CREATED:20250129T135817Z
LAST-MODIFIED:20251119T094626Z
UID:10000436-1782147600-1782162000@fahrschule-haider.at
SUMMARY:Traktor F-Kurs
DESCRIPTION:Traktor F-Kurs\nEin-Tages-Kurs von 17:00 – 21:00 Uhr \nBitte bring ein Passfoto + Reisepass (Führerschein)  mit! \n  \nWeitere Informationen zum Kurs findest du hier >>> \nFolgt gerne unserem Telegramkanal\, dort werden wir die aktuellsten Infos für euch bereitstellen >>> telegram Fahrschule Haider \n \nTraktor\, Theorie\, F\, Traktor(F)\, Klasse F
URL:https://fahrschule-haider.at/termin/traktor-f-kurs-5/
LOCATION:Driving Park Lovnttol\, St. Marein 133\, St. Stefan\, Kärnten\, 9431\, Österreich
CATEGORIES:F,Klasse F,Theorie,Traktor
ATTACH;FMTTYPE=image/jpeg:https://fahrschule-haider.at/wp-content/uploads/2020/05/traktor-1000.jpg
END:VEVENT
BEGIN:VEVENT
DTSTART;TZID=Europe/Paris:20260623T170000
DTEND;TZID=Europe/Paris:20260623T200000
DTSTAMP:20260421T101627
CREATED:20250129T134712Z
LAST-MODIFIED:20251119T094649Z
UID:10000428-1782234000-1782244800@fahrschule-haider.at
SUMMARY:PKW-Anhänger (BE)
DESCRIPTION:PKW-BE-Anhänger-Kurs\n\nEin-Tages-Kurs von 17:00 Uhr – 20:00 Uhr \nBitte bring ein Passfoto + Reisepass (Führerschein)  mit! \nFolgt gerne unserem Telegramkanal\, dort werden wir die aktuellsten Infos für euch bereitstellen >>> telegram Fahrschule Haider \nWeitere Informationen findest du hier >>> \n \ntags: Anhänger\, BE-Kurs\, Klasse BE\, PKW-Anhänger
URL:https://fahrschule-haider.at/termin/pkw-anhaenger-be-7/
LOCATION:Driving Park Lovnttol\, St. Marein 133\, St. Stefan\, Kärnten\, 9431\, Österreich
CATEGORIES:Anhänger,BE,Klasse BE,Praxis
ATTACH;FMTTYPE=image/jpeg:https://fahrschule-haider.at/wp-content/uploads/2021/02/anhaenger.jpg
END:VEVENT
BEGIN:VEVENT
DTSTART;TZID=Europe/Paris:20260623T170000
DTEND;TZID=Europe/Paris:20260623T200000
DTSTAMP:20260421T101627
CREATED:20251119T140558Z
LAST-MODIFIED:20251119T140558Z
UID:10000524-1782234000-1782244800@fahrschule-haider.at
SUMMARY:PKW-Anhänger (BE)
DESCRIPTION:PKW-BE-Anhänger-Kurs\n\nEin-Tages-Kurs von 17:00 Uhr – 20:00 Uhr \nBitte bring ein Passfoto + Reisepass (Führerschein)  mit! \nFolgt gerne unserem Telegramkanal\, dort werden wir die aktuellsten Infos für euch bereitstellen >>> telegram Fahrschule Haider \nWeitere Informationen findest du hier >>> \n \ntags: Anhänger\, BE-Kurs\, Klasse BE\, PKW-Anhänger
URL:https://fahrschule-haider.at/termin/pkw-anhaenger-be-6/
LOCATION:Driving Park Lovnttol\, St. Marein 133\, St. Stefan\, Kärnten\, 9431\, Österreich
CATEGORIES:Anhänger,BE,Klasse BE,Praxis
ATTACH;FMTTYPE=image/jpeg:https://fahrschule-haider.at/wp-content/uploads/2021/02/anhaenger.jpg
END:VEVENT
BEGIN:VEVENT
DTSTART;TZID=Europe/Paris:20260624T170000
DTEND;TZID=Europe/Paris:20260624T200000
DTSTAMP:20260421T101627
CREATED:20250129T140457Z
LAST-MODIFIED:20260310T170722Z
UID:10000443-1782320400-1782331200@fahrschule-haider.at
SUMMARY:Motorrad A _ 2 Tageskurs
DESCRIPTION:Motorrad A_ 2 Tageskurs\nZwei-Tages-Kurs von 17:00 – 20:00 Uhr \nBitte bring ein Passfoto + Reisepass (Führerschein)  mit! \n  \nWeitere Informationen zum Kurs findest du hier >>> \nFolgt gerne unserem Telegramkanal\, dort werden wir die aktuellsten Infos für euch bereitstellen >>> telegram Fahrschule Haider \n  \nMotorrad\, A Kurs
URL:https://fahrschule-haider.at/termin/motorrad-a-_-2-tageskurs-7/
LOCATION:Driving Park Lovnttol\, St. Marein 133\, St. Stefan\, Kärnten\, 9431\, Österreich
CATEGORIES:A Kurs,Motorrad,Theorie
ATTACH;FMTTYPE=image/jpeg:https://fahrschule-haider.at/wp-content/uploads/2020/03/motorrad.jpg
END:VEVENT
BEGIN:VEVENT
DTSTART;TZID=Europe/Paris:20260625T080000
DTEND;TZID=Europe/Paris:20260625T080000
DTSTAMP:20260421T101627
CREATED:20260414T075202Z
LAST-MODIFIED:20260414T075202Z
UID:10000556-1782374400-1782374400@fahrschule-haider.at
SUMMARY:Fahrsicherheitstraining PKW
DESCRIPTION:Fahrsicherheitstraining (Spikesverbot) \nWir bitten um rechtzeitige Absage\, da ansonsten 80% in Rechnung gestellt werden müssen! \n  \nDer offene Betrag ist sofort nach Anmeldung zu überweisen.
URL:https://fahrschule-haider.at/termin/fahrsicherheitstraining-pkw-16/
LOCATION:Driving Park Lovnttol\, St. Marein 133\, St. Stefan\, Kärnten\, 9431\, Österreich
CATEGORIES:Fahrsicherheitstraining PKW,Mehrphasenausbildung
ATTACH;FMTTYPE=image/jpeg:https://fahrschule-haider.at/wp-content/uploads/2025/09/20250903-Fahrschule-Haider-Rene-Knabl-090-scaled.jpg
END:VEVENT
BEGIN:VEVENT
DTSTART;TZID=Europe/Paris:20260626T080000
DTEND;TZID=Europe/Paris:20260626T163000
DTSTAMP:20260421T101627
CREATED:20260414T075844Z
LAST-MODIFIED:20260414T075844Z
UID:10000574-1782460800-1782491400@fahrschule-haider.at
SUMMARY:Fahrsicherheitstraining Motorrad
DESCRIPTION:Fahrsicherheitstraining MOTORRAD \nDie Kosten betragen mit eigenem Motorrad EURO 246\,-\nMotorrad Leihgebühr beträgt EURO 40\,-\nDie Kosten mit Leihmotorrad  betragen gesamt EURO 286\,- \nFalls Du von uns ein Motorrad ausleihen möchtest (7 sind verfügbar)\, wähle dies bitte bei der Anmeldung aus. \nWir bitten um rechtzeitige Absage\, da ansonsten 80% in Rechnung gestellt werden müssen! \n  \nFahrsicherheitstraining\, Fahrsicherheit\, Motorrad\, Mehrphasenausbildung
URL:https://fahrschule-haider.at/termin/fahrsicherheitstraining-motorrad-10/
LOCATION:Driving Park Lovnttol\, St. Marein 133\, St. Stefan\, Kärnten\, 9431\, Österreich
CATEGORIES:Fahrsicherheitstraining Motorrad,Mehrphasenausbildung
ATTACH;FMTTYPE=image/jpeg:https://fahrschule-haider.at/wp-content/uploads/2021/01/fahrsicherheit-training-haider.jpg
END:VEVENT
END:VCALENDAR