BEGIN:VCALENDAR
VERSION:2.0
PRODID:-//Fahrschule Haider - ECPv6.15.18//NONSGML v1.0//EN
CALSCALE:GREGORIAN
METHOD:PUBLISH
X-ORIGINAL-URL:https://fahrschule-haider.at
X-WR-CALDESC:Veranstaltungen für Fahrschule Haider
REFRESH-INTERVAL;VALUE=DURATION:PT1H
X-Robots-Tag:noindex
X-PUBLISHED-TTL:PT1H
BEGIN:VTIMEZONE
TZID:Europe/Paris
BEGIN:DAYLIGHT
TZOFFSETFROM:+0100
TZOFFSETTO:+0200
TZNAME:CEST
DTSTART:20250330T010000
END:DAYLIGHT
BEGIN:STANDARD
TZOFFSETFROM:+0200
TZOFFSETTO:+0100
TZNAME:CET
DTSTART:20251026T010000
END:STANDARD
BEGIN:DAYLIGHT
TZOFFSETFROM:+0100
TZOFFSETTO:+0200
TZNAME:CEST
DTSTART:20260329T010000
END:DAYLIGHT
BEGIN:STANDARD
TZOFFSETFROM:+0200
TZOFFSETTO:+0100
TZNAME:CET
DTSTART:20261025T010000
END:STANDARD
BEGIN:DAYLIGHT
TZOFFSETFROM:+0100
TZOFFSETTO:+0200
TZNAME:CEST
DTSTART:20270328T010000
END:DAYLIGHT
BEGIN:STANDARD
TZOFFSETFROM:+0200
TZOFFSETTO:+0100
TZNAME:CET
DTSTART:20271031T010000
END:STANDARD
END:VTIMEZONE
BEGIN:VEVENT
DTSTART;TZID=Europe/Paris:20261012T170000
DTEND;TZID=Europe/Paris:20261012T210000
DTSTAMP:20260421T203910
CREATED:20251119T140317Z
LAST-MODIFIED:20251119T140317Z
UID:10000518-1791824400-1791838800@fahrschule-haider.at
SUMMARY:Traktor F-Kurs
DESCRIPTION:Traktor F-Kurs\nEin-Tages-Kurs von 17:00 – 21:00 Uhr \nBitte bring ein Passfoto + Reisepass (Führerschein)  mit! \n  \nWeitere Informationen zum Kurs findest du hier >>> \n \nTraktor\, Theorie\, F\, Traktor(F)\, Klasse F
URL:https://fahrschule-haider.at/termin/traktor-f-kurs-8/
LOCATION:Driving Park Lovnttol\, St. Marein 133\, St. Stefan\, Kärnten\, 9431\, Österreich
CATEGORIES:F,Klasse F,Theorie,Traktor
ATTACH;FMTTYPE=image/jpeg:https://fahrschule-haider.at/wp-content/uploads/2020/05/traktor-1000.jpg
END:VEVENT
BEGIN:VEVENT
DTSTART;TZID=Europe/Paris:20261013T170000
DTEND;TZID=Europe/Paris:20261013T200000
DTSTAMP:20260421T203910
CREATED:20251119T140527Z
LAST-MODIFIED:20251119T140527Z
UID:10000523-1791910800-1791921600@fahrschule-haider.at
SUMMARY:PKW-Anhänger (BE)
DESCRIPTION:PKW-BE-Anhänger-Kurs\n\nEin-Tages-Kurs von 17:00 Uhr – 20:00 Uhr \nBitte bring ein Passfoto + Reisepass (Führerschein)  mit! \nFolgt gerne unserem Telegramkanal\, dort werden wir die aktuellsten Infos für euch bereitstellen >>> telegram Fahrschule Haider \nWeitere Informationen findest du hier >>> \n \ntags: Anhänger\, BE-Kurs\, Klasse BE\, PKW-Anhänger
URL:https://fahrschule-haider.at/termin/pkw-anhaenger-be-5/
LOCATION:Driving Park Lovnttol\, St. Marein 133\, St. Stefan\, Kärnten\, 9431\, Österreich
CATEGORIES:Anhänger,BE,Klasse BE,Praxis
ATTACH;FMTTYPE=image/jpeg:https://fahrschule-haider.at/wp-content/uploads/2021/02/anhaenger.jpg
END:VEVENT
BEGIN:VEVENT
DTSTART;TZID=Europe/Paris:20261014T170000
DTEND;TZID=Europe/Paris:20261014T200000
DTSTAMP:20260421T203910
CREATED:20251119T141141Z
LAST-MODIFIED:20260310T170632Z
UID:10000527-1791997200-1792008000@fahrschule-haider.at
SUMMARY:Motorrad A _ 2 Tageskurs
DESCRIPTION:Motorrad A_ 2 Tageskurs\nZwei-Tages-Kurs von 17:00 – 20:00 Uhr \nBitte bring ein Passfoto + Reisepass (Führerschein)  mit! \n  \nWeitere Informationen zum Kurs findest du hier >>> \nFolgt gerne unserem Telegramkanal\, dort werden wir die aktuellsten Infos für euch bereitstellen >>> telegram Fahrschule Haider \n  \nMotorrad\, A Kurs
URL:https://fahrschule-haider.at/termin/motorrad-a-_-2-tageskurs-3/
LOCATION:Driving Park Lovnttol\, St. Marein 133\, St. Stefan\, Kärnten\, 9431\, Österreich
CATEGORIES:A Kurs,Motorrad,Theorie
ATTACH;FMTTYPE=image/jpeg:https://fahrschule-haider.at/wp-content/uploads/2020/03/motorrad.jpg
END:VEVENT
BEGIN:VEVENT
DTSTART;TZID=Europe/Paris:20261019T170000
DTEND;TZID=Europe/Paris:20261019T200000
DTSTAMP:20260421T203910
CREATED:20251119T141413Z
LAST-MODIFIED:20251119T141413Z
UID:10000531-1792429200-1792440000@fahrschule-haider.at
SUMMARY:PKW-Theorie-Intensivkurs (B-Kurs)
DESCRIPTION:PKW-Theorie-Intensivkurs (B-Kurs)\n10 Tage Intensivkurs  |  Montag bis Freitag von 17:00 Uhr – 20:00 Uhr \nStart am Montag um 17.00 Uhr in der Fahrschule. \nWenn du noch nicht angemeldet bist\, komm persönlich zu den Öffnungszeiten vorbei. Ihr könnt euch auch gerne per Mail anmelden. \nBitte bring ein Passfoto + Reisepass (Führerschein)  mit! \n  \n  \nWeitere Informationen über die Klasse B findest du hier >>> \ntags: Theorie\, Intensivkurs\, Klasse B\, B-Kurs\, Theorie-Intensivkurs \n 
URL:https://fahrschule-haider.at/termin/pkw-theorie-intensivkurs-b-kurs-12/
LOCATION:Büro St. Marein\, St. Marein 133\, St. Stefan\, Kärnten\, 9431\, Österreich
CATEGORIES:B-Kurs,PKW,PKW-Theorie-Intensivkurs,Theorie
ATTACH;FMTTYPE=image/jpeg:https://fahrschule-haider.at/wp-content/uploads/2020/09/Theoriekurs.jpg
END:VEVENT
END:VCALENDAR