BEGIN:VCALENDAR
VERSION:2.0
PRODID:-//Fahrschule Haider - ECPv6.15.18//NONSGML v1.0//EN
CALSCALE:GREGORIAN
METHOD:PUBLISH
X-ORIGINAL-URL:https://fahrschule-haider.at
X-WR-CALDESC:Veranstaltungen für Fahrschule Haider
REFRESH-INTERVAL;VALUE=DURATION:PT1H
X-Robots-Tag:noindex
X-PUBLISHED-TTL:PT1H
BEGIN:VTIMEZONE
TZID:Europe/Paris
BEGIN:DAYLIGHT
TZOFFSETFROM:+0100
TZOFFSETTO:+0200
TZNAME:CEST
DTSTART:20250330T010000
END:DAYLIGHT
BEGIN:STANDARD
TZOFFSETFROM:+0200
TZOFFSETTO:+0100
TZNAME:CET
DTSTART:20251026T010000
END:STANDARD
BEGIN:DAYLIGHT
TZOFFSETFROM:+0100
TZOFFSETTO:+0200
TZNAME:CEST
DTSTART:20260329T010000
END:DAYLIGHT
BEGIN:STANDARD
TZOFFSETFROM:+0200
TZOFFSETTO:+0100
TZNAME:CET
DTSTART:20261025T010000
END:STANDARD
BEGIN:DAYLIGHT
TZOFFSETFROM:+0100
TZOFFSETTO:+0200
TZNAME:CEST
DTSTART:20270328T010000
END:DAYLIGHT
BEGIN:STANDARD
TZOFFSETFROM:+0200
TZOFFSETTO:+0100
TZNAME:CET
DTSTART:20271031T010000
END:STANDARD
END:VTIMEZONE
BEGIN:VEVENT
DTSTART;TZID=Europe/Paris:20260622T170000
DTEND;TZID=Europe/Paris:20260622T210000
DTSTAMP:20260419T173136
CREATED:20250129T135817Z
LAST-MODIFIED:20251119T094626Z
UID:10000436-1782147600-1782162000@fahrschule-haider.at
SUMMARY:Traktor F-Kurs
DESCRIPTION:Traktor F-Kurs\nEin-Tages-Kurs von 17:00 – 21:00 Uhr \nBitte bring ein Passfoto + Reisepass (Führerschein)  mit! \n  \nWeitere Informationen zum Kurs findest du hier >>> \nFolgt gerne unserem Telegramkanal\, dort werden wir die aktuellsten Infos für euch bereitstellen >>> telegram Fahrschule Haider \n \nTraktor\, Theorie\, F\, Traktor(F)\, Klasse F
URL:https://fahrschule-haider.at/termin/traktor-f-kurs-5/
LOCATION:Driving Park Lovnttol\, St. Marein 133\, St. Stefan\, Kärnten\, 9431\, Österreich
CATEGORIES:F,Klasse F,Theorie,Traktor
ATTACH;FMTTYPE=image/jpeg:https://fahrschule-haider.at/wp-content/uploads/2020/05/traktor-1000.jpg
END:VEVENT
BEGIN:VEVENT
DTSTART;TZID=Europe/Paris:20260623T170000
DTEND;TZID=Europe/Paris:20260623T200000
DTSTAMP:20260419T173136
CREATED:20250129T134712Z
LAST-MODIFIED:20251119T094649Z
UID:10000428-1782234000-1782244800@fahrschule-haider.at
SUMMARY:PKW-Anhänger (BE)
DESCRIPTION:PKW-BE-Anhänger-Kurs\n\nEin-Tages-Kurs von 17:00 Uhr – 20:00 Uhr \nBitte bring ein Passfoto + Reisepass (Führerschein)  mit! \nFolgt gerne unserem Telegramkanal\, dort werden wir die aktuellsten Infos für euch bereitstellen >>> telegram Fahrschule Haider \nWeitere Informationen findest du hier >>> \n \ntags: Anhänger\, BE-Kurs\, Klasse BE\, PKW-Anhänger
URL:https://fahrschule-haider.at/termin/pkw-anhaenger-be-7/
LOCATION:Driving Park Lovnttol\, St. Marein 133\, St. Stefan\, Kärnten\, 9431\, Österreich
CATEGORIES:Anhänger,BE,Klasse BE,Praxis
ATTACH;FMTTYPE=image/jpeg:https://fahrschule-haider.at/wp-content/uploads/2021/02/anhaenger.jpg
END:VEVENT
BEGIN:VEVENT
DTSTART;TZID=Europe/Paris:20260623T170000
DTEND;TZID=Europe/Paris:20260623T200000
DTSTAMP:20260419T173136
CREATED:20251119T140558Z
LAST-MODIFIED:20251119T140558Z
UID:10000524-1782234000-1782244800@fahrschule-haider.at
SUMMARY:PKW-Anhänger (BE)
DESCRIPTION:PKW-BE-Anhänger-Kurs\n\nEin-Tages-Kurs von 17:00 Uhr – 20:00 Uhr \nBitte bring ein Passfoto + Reisepass (Führerschein)  mit! \nFolgt gerne unserem Telegramkanal\, dort werden wir die aktuellsten Infos für euch bereitstellen >>> telegram Fahrschule Haider \nWeitere Informationen findest du hier >>> \n \ntags: Anhänger\, BE-Kurs\, Klasse BE\, PKW-Anhänger
URL:https://fahrschule-haider.at/termin/pkw-anhaenger-be-6/
LOCATION:Driving Park Lovnttol\, St. Marein 133\, St. Stefan\, Kärnten\, 9431\, Österreich
CATEGORIES:Anhänger,BE,Klasse BE,Praxis
ATTACH;FMTTYPE=image/jpeg:https://fahrschule-haider.at/wp-content/uploads/2021/02/anhaenger.jpg
END:VEVENT
BEGIN:VEVENT
DTSTART;TZID=Europe/Paris:20260624T170000
DTEND;TZID=Europe/Paris:20260624T200000
DTSTAMP:20260419T173136
CREATED:20250129T140457Z
LAST-MODIFIED:20260310T170722Z
UID:10000443-1782320400-1782331200@fahrschule-haider.at
SUMMARY:Motorrad A _ 2 Tageskurs
DESCRIPTION:Motorrad A_ 2 Tageskurs\nZwei-Tages-Kurs von 17:00 – 20:00 Uhr \nBitte bring ein Passfoto + Reisepass (Führerschein)  mit! \n  \nWeitere Informationen zum Kurs findest du hier >>> \nFolgt gerne unserem Telegramkanal\, dort werden wir die aktuellsten Infos für euch bereitstellen >>> telegram Fahrschule Haider \n  \nMotorrad\, A Kurs
URL:https://fahrschule-haider.at/termin/motorrad-a-_-2-tageskurs-7/
LOCATION:Driving Park Lovnttol\, St. Marein 133\, St. Stefan\, Kärnten\, 9431\, Österreich
CATEGORIES:A Kurs,Motorrad,Theorie
ATTACH;FMTTYPE=image/jpeg:https://fahrschule-haider.at/wp-content/uploads/2020/03/motorrad.jpg
END:VEVENT
BEGIN:VEVENT
DTSTART;TZID=Europe/Paris:20260625T080000
DTEND;TZID=Europe/Paris:20260625T080000
DTSTAMP:20260419T173136
CREATED:20260414T075202Z
LAST-MODIFIED:20260414T075202Z
UID:10000556-1782374400-1782374400@fahrschule-haider.at
SUMMARY:Fahrsicherheitstraining PKW
DESCRIPTION:Fahrsicherheitstraining (Spikesverbot) \nWir bitten um rechtzeitige Absage\, da ansonsten 80% in Rechnung gestellt werden müssen! \n  \nDer offene Betrag ist sofort nach Anmeldung zu überweisen.
URL:https://fahrschule-haider.at/termin/fahrsicherheitstraining-pkw-16/
LOCATION:Driving Park Lovnttol\, St. Marein 133\, St. Stefan\, Kärnten\, 9431\, Österreich
CATEGORIES:Fahrsicherheitstraining PKW,Mehrphasenausbildung
ATTACH;FMTTYPE=image/jpeg:https://fahrschule-haider.at/wp-content/uploads/2025/09/20250903-Fahrschule-Haider-Rene-Knabl-090-scaled.jpg
END:VEVENT
BEGIN:VEVENT
DTSTART;TZID=Europe/Paris:20260626T080000
DTEND;TZID=Europe/Paris:20260626T163000
DTSTAMP:20260419T173136
CREATED:20260414T075844Z
LAST-MODIFIED:20260414T075844Z
UID:10000574-1782460800-1782491400@fahrschule-haider.at
SUMMARY:Fahrsicherheitstraining Motorrad
DESCRIPTION:Fahrsicherheitstraining MOTORRAD \nDie Kosten betragen mit eigenem Motorrad EURO 246\,-\nMotorrad Leihgebühr beträgt EURO 40\,-\nDie Kosten mit Leihmotorrad  betragen gesamt EURO 286\,- \nFalls Du von uns ein Motorrad ausleihen möchtest (7 sind verfügbar)\, wähle dies bitte bei der Anmeldung aus. \nWir bitten um rechtzeitige Absage\, da ansonsten 80% in Rechnung gestellt werden müssen! \n  \nFahrsicherheitstraining\, Fahrsicherheit\, Motorrad\, Mehrphasenausbildung
URL:https://fahrschule-haider.at/termin/fahrsicherheitstraining-motorrad-10/
LOCATION:Driving Park Lovnttol\, St. Marein 133\, St. Stefan\, Kärnten\, 9431\, Österreich
CATEGORIES:Fahrsicherheitstraining Motorrad,Mehrphasenausbildung
ATTACH;FMTTYPE=image/jpeg:https://fahrschule-haider.at/wp-content/uploads/2021/01/fahrsicherheit-training-haider.jpg
END:VEVENT
END:VCALENDAR